BEGIN:VCALENDAR
VERSION:2.0
PRODID:-//New Bedford Police Union - ECPv6.13.1//NONSGML v1.0//EN
CALSCALE:GREGORIAN
METHOD:PUBLISH
X-WR-CALNAME:New Bedford Police Union
X-ORIGINAL-URL:https://newbedfordpoliceunion.org
X-WR-CALDESC:Events for New Bedford Police Union
REFRESH-INTERVAL;VALUE=DURATION:PT1H
X-Robots-Tag:noindex
X-PUBLISHED-TTL:PT1H
BEGIN:VTIMEZONE
TZID:America/New_York
BEGIN:DAYLIGHT
TZOFFSETFROM:-0500
TZOFFSETTO:-0400
TZNAME:EDT
DTSTART:20220313T070000
END:DAYLIGHT
BEGIN:STANDARD
TZOFFSETFROM:-0400
TZOFFSETTO:-0500
TZNAME:EST
DTSTART:20221106T060000
END:STANDARD
END:VTIMEZONE
BEGIN:VTIMEZONE
TZID:UTC
BEGIN:STANDARD
TZOFFSETFROM:+0000
TZOFFSETTO:+0000
TZNAME:UTC
DTSTART:20220101T000000
END:STANDARD
END:VTIMEZONE
BEGIN:VEVENT
DTSTART;TZID=America/New_York:20221028T180000
DTEND;TZID=America/New_York:20221028T193000
DTSTAMP:20260421T083646
CREATED:20230113T184817Z
LAST-MODIFIED:20230113T185312Z
UID:2197-1666980000-1666985400@newbedfordpoliceunion.org
SUMMARY:ANDREA MCCOY HALLOWEEN PARTY
DESCRIPTION:
URL:https://newbedfordpoliceunion.org/event/andrea-mccoy-halloween-party/
LOCATION:Andrea McCoy Recreation Center\, 181 Hillman St\, New Bedford\, United States
ATTACH;FMTTYPE=image/jpeg:https://newbedfordpoliceunion.org/wp-content/uploads/2022/10/20948AFD-867B-4AC0-93E9-AE0C10667413.jpeg
END:VEVENT
BEGIN:VEVENT
DTSTART;TZID=UTC:20220228T080000
DTEND;TZID=UTC:20220228T170000
DTSTAMP:20260421T083646
CREATED:20220301T000005Z
LAST-MODIFIED:20220606T173907Z
UID:1609-1646035200-1646067600@newbedfordpoliceunion.org
SUMMARY:New Bedford Police Union Website Launched!
DESCRIPTION:Welcome to our website! \nWe\, the members of the New Bedford Police Union\, started this website to share news about the New Bedford Police Department from within. Straight from the source of our members! \nWe have some big things coming so be sure to stay tuned and continue to check back on our Website and Facebook Page!
URL:https://newbedfordpoliceunion.org/event/new-bedford-police-union-website-launched/
LOCATION:New Bedford\, New Bedford\, MA\, 02740\, United States
END:VEVENT
BEGIN:VEVENT
DTSTART;VALUE=DATE:20220221
DTEND;VALUE=DATE:20220222
DTSTAMP:20260421T083646
CREATED:20220222T041031Z
LAST-MODIFIED:20220227T215943Z
UID:1434-1645401600-1645487999@newbedfordpoliceunion.org
SUMMARY:New Bedford Police Union Receives new Attorney Sandulli Grace\, P.C.
DESCRIPTION:
URL:https://newbedfordpoliceunion.org/event/new-bedford-police-union-receives-new-attorney-sandulli-grace-p-c/
LOCATION:New Bedford\, New Bedford\, MA\, 02740\, United States
END:VEVENT
END:VCALENDAR